BEGIN:VCALENDAR
VERSION:2.0
PRODID:-//Good Shepherd Catholic Radio - ECPv6.6.4.2//NONSGML v1.0//EN
CALSCALE:GREGORIAN
METHOD:PUBLISH
X-WR-CALNAME:Good Shepherd Catholic Radio
X-ORIGINAL-URL:https://goodshepherdcatholicradio.org
X-WR-CALDESC:Events for Good Shepherd Catholic Radio
REFRESH-INTERVAL;VALUE=DURATION:PT1H
X-Robots-Tag:noindex
X-PUBLISHED-TTL:PT1H
BEGIN:VTIMEZONE
TZID:America/Detroit
BEGIN:DAYLIGHT
TZOFFSETFROM:-0500
TZOFFSETTO:-0400
TZNAME:EDT
DTSTART:20210314T070000
END:DAYLIGHT
BEGIN:STANDARD
TZOFFSETFROM:-0400
TZOFFSETTO:-0500
TZNAME:EST
DTSTART:20211107T060000
END:STANDARD
BEGIN:DAYLIGHT
TZOFFSETFROM:-0500
TZOFFSETTO:-0400
TZNAME:EDT
DTSTART:20220313T070000
END:DAYLIGHT
BEGIN:STANDARD
TZOFFSETFROM:-0400
TZOFFSETTO:-0500
TZNAME:EST
DTSTART:20221106T060000
END:STANDARD
END:VTIMEZONE
BEGIN:VEVENT
DTSTART;VALUE=DATE:20220326
DTEND;VALUE=DATE:20220327
DTSTAMP:20260421T114258
CREATED:20220125T115605Z
LAST-MODIFIED:20220125T115605Z
UID:62117-1648252800-1648339199@goodshepherdcatholicradio.org
SUMMARY:Franciscan Sisters Liturgy of the Hours for Discerning Women
DESCRIPTION:Single women discerning God’s call are invited to a Liturgy of the Hours Zoom workshop on February 26\, 2022\,  led by Spiritual Director Franciscan Sister Anne Marie Lom\, OSF. Deepen your faith\, and learn the history and how to meaningfully practice this meaningful prayer. For more visit https://fscc-calledtobe.org \n  \n\n\n\n\n\nLiturgy of the Hours for Discerning Women\nYoung women discerning God’s call have asked about more information regarding the Liturgy of the Hours. Sister Anne Marie Lom is responding to such a need by offering a Zoom event on “Called to Pray the Liturgy of the Hours’ on February 26\, 2022 with talks at 10 AM\, 2 PM and 4 PM. What can you expect from this kind of event? Here are some questions that will be answered. \n\nHow did this prayer of the universal Church come to be?\nWhat are the similarities and differences in the various Hours: Lauds and Vespers? How are the Hours structured?\nWhat is the difference between a Psalm and a Canticle in the Liturgy of Hours?\nHow can I pray the Liturgy of Hours with better attention and personal application?\nTime for your questions and observations.\n\nSister Anne Marie Lom OSF holds a Masters Degree in Applied Spirituality from the University of San Francisco and served an internship in Franciscan Spiritual Direction for three months in Ontario\, Canada. She has facilitated the training of Spiritual Directors and has offered retreats throughout the United States. Presently she coordinates St. Francis House of Prayer in Manitowoc\, WI \nThere will be a Guest Speaker: Sister Pamela Biehl\, OSF\, who has a Master’s Degree in Liturgy\, will be the leader of  the closing Evening Prayer.  https://fscc-calledtobe.org/vocation-retreat-registration/ \n \n  \n\n\n\n\n\n\n\n\n\n\nGod Calls You. We Invite You.\n\n\n\n\n\n  \n 
URL:https://goodshepherdcatholicradio.org/event/franciscan-sisters-liturgy-of-the-hours-for-discerning-women/
CATEGORIES:Day of Reflection
ATTACH;FMTTYPE=image/jpeg:https://goodshepherdcatholicradio.org/wp-content/uploads/2022/01/womens-discernment-400x1175-.jpg
END:VEVENT
BEGIN:VEVENT
DTSTART;VALUE=DATE:20220325
DTEND;VALUE=DATE:20220326
DTSTAMP:20260421T114258
CREATED:20220107T134732Z
LAST-MODIFIED:20220107T134732Z
UID:62051-1648166400-1648252799@goodshepherdcatholicradio.org
SUMMARY:THE ANNUNCIATION OF THE LORD
DESCRIPTION:
URL:https://goodshepherdcatholicradio.org/event/the-annunciation-of-the-lord/
END:VEVENT
BEGIN:VEVENT
DTSTART;VALUE=DATE:20220320
DTEND;VALUE=DATE:20220321
DTSTAMP:20260421T114258
CREATED:20220107T134646Z
LAST-MODIFIED:20220107T134646Z
UID:62050-1647734400-1647820799@goodshepherdcatholicradio.org
SUMMARY:THIRD SUNDAY OF LENT
DESCRIPTION:
URL:https://goodshepherdcatholicradio.org/event/third-sunday-of-lent/
END:VEVENT
BEGIN:VEVENT
DTSTART;VALUE=DATE:20220319
DTEND;VALUE=DATE:20220320
DTSTAMP:20260421T114258
CREATED:20220107T134614Z
LAST-MODIFIED:20220107T134614Z
UID:62049-1647648000-1647734399@goodshepherdcatholicradio.org
SUMMARY:SAINT JOSEPH\, SPOUSE OF THE BLESSED VIRGIN MARY
DESCRIPTION:
URL:https://goodshepherdcatholicradio.org/event/saint-joseph-spouse-of-the-blessed-virgin-mary/
END:VEVENT
BEGIN:VEVENT
DTSTART;TZID=America/Detroit:20220313T130000
DTEND;TZID=America/Detroit:20220313T153000
DTSTAMP:20260421T114258
CREATED:20220214T141548Z
LAST-MODIFIED:20220214T141548Z
UID:62134-1647176400-1647185400@goodshepherdcatholicradio.org
SUMMARY:Queen of the Miraculous Medal Ladies' Guild Faith Lift Retreat
DESCRIPTION:Please join Queen of the Miraculous Medal Ladies’ Guild at their Ladies’ Faith Lift Retreat.  Sunday\, March 13\, 2022 from 1:00-3:30 pm in Queens Social Center.  Doors open at 12:30\, lunch served at 1:00 and featured guest speaker\, Donna-Marie Cooper O’Boyle at 1:30. Donna-Marie is an author\, journalist\, speaker\, EWTN TV host and retreat leader. Cost is $20 by March 4th or $25 March 5-13th.  Contact Cammie at 517-474-1787 or Queens Parish Office at 517-783-2748.
URL:https://goodshepherdcatholicradio.org/event/queen-of-the-miraculous-medal-ladies-guild-faith-lift-retreat/
END:VEVENT
BEGIN:VEVENT
DTSTART;VALUE=DATE:20220313
DTEND;VALUE=DATE:20220314
DTSTAMP:20260421T114258
CREATED:20220107T134501Z
LAST-MODIFIED:20220107T134501Z
UID:62048-1647129600-1647215999@goodshepherdcatholicradio.org
SUMMARY:SECOND SUNDAY OF LENT
DESCRIPTION:
URL:https://goodshepherdcatholicradio.org/event/second-sunday-of-lent/
END:VEVENT
BEGIN:VEVENT
DTSTART;TZID=America/Detroit:20220311T193000
DTEND;TZID=America/Detroit:20220311T223000
DTSTAMP:20260421T114258
CREATED:20220225T092501Z
LAST-MODIFIED:20220225T092501Z
UID:62158-1647027000-1647037800@goodshepherdcatholicradio.org
SUMMARY:Lumen Christi Drama Department's Spring Musical
DESCRIPTION:LCCS presents:  The Sound of Music
URL:https://goodshepherdcatholicradio.org/event/lumen-christi-drama-departments-spring-musical/
LOCATION:Lumen Christi Catholic School\, 3483 Spring Arbor Rd\, Jackson\, MI\, 49203\, United States
CATEGORIES:Catholic Schools
ATTACH;FMTTYPE=image/png:https://goodshepherdcatholicradio.org/wp-content/uploads/2022/02/Poster-5.png
END:VEVENT
BEGIN:VEVENT
DTSTART;VALUE=DATE:20220306
DTEND;VALUE=DATE:20220307
DTSTAMP:20260421T114258
CREATED:20220107T134428Z
LAST-MODIFIED:20220107T134428Z
UID:62047-1646524800-1646611199@goodshepherdcatholicradio.org
SUMMARY:FIRST SUNDAY OF LENT
DESCRIPTION:
URL:https://goodshepherdcatholicradio.org/event/first-sunday-of-lent/
END:VEVENT
BEGIN:VEVENT
DTSTART;TZID=America/Detroit:20220304T153000
DTEND;TZID=America/Detroit:20220304T190000
DTSTAMP:20260421T114258
CREATED:20220222T142920Z
LAST-MODIFIED:20220222T142920Z
UID:62150-1646407800-1646420400@goodshepherdcatholicradio.org
SUMMARY:St. Mary Manchester Lenten Fish Fries
DESCRIPTION:St. Mary’s Catholic Church in Manchester will once again hold its Lenten fish fry dinners beginning Friday\, March 4\, and running through April 8 from 3:30 p.m. to 7 p.m. Similar to last year\, the dinners will be available only via a drive-thru\, take-out line at St. Mary’s Parish Center\, 108 Madison Street\, one block north of historic downtown Manchester. \nThe boxed dinners will consist of four pieces of beer battered Atlantic cod\, lots of French fries\, dinner roll with butter\, tartar sauce\, coleslaw\, and a homemade cookie. No substitutions can be made. The price this year is $15 per dinner. Cash or check only\, please. \nPlease join us and enjoy a delicious meal–voted the best in the area. For more information contact  St. Mary Office: 734-428-8811
URL:https://goodshepherdcatholicradio.org/event/st-mary-manchester-lenten-fish-fries/
ATTACH;FMTTYPE=image/jpeg:https://goodshepherdcatholicradio.org/wp-content/uploads/2022/02/Fish-Fry-Flyer.jpg
END:VEVENT
BEGIN:VEVENT
DTSTART;VALUE=DATE:20220302
DTEND;VALUE=DATE:20220303
DTSTAMP:20260421T114258
CREATED:20220107T134345Z
LAST-MODIFIED:20220107T134345Z
UID:62046-1646179200-1646265599@goodshepherdcatholicradio.org
SUMMARY:Ash Wednesday
DESCRIPTION:
URL:https://goodshepherdcatholicradio.org/event/ash-wednesday/
END:VEVENT
BEGIN:VEVENT
DTSTART;VALUE=DATE:20220227
DTEND;VALUE=DATE:20220228
DTSTAMP:20260421T114258
CREATED:20220107T134255Z
LAST-MODIFIED:20220107T134255Z
UID:62045-1645920000-1646006399@goodshepherdcatholicradio.org
SUMMARY:EIGHTH SUNDAY IN ORDINARY TIME
DESCRIPTION:
URL:https://goodshepherdcatholicradio.org/event/eighth-sunday-in-ordinary-time/
END:VEVENT
BEGIN:VEVENT
DTSTART;TZID=America/Detroit:20220225T160000
DTEND;TZID=America/Detroit:20220225T190000
DTSTAMP:20260421T114258
CREATED:20220222T103747Z
LAST-MODIFIED:20220222T103747Z
UID:62142-1645804800-1645815600@goodshepherdcatholicradio.org
SUMMARY:Our Lady of Fatima Fish Fry
DESCRIPTION:
URL:https://goodshepherdcatholicradio.org/event/our-lady-of-fatima-fish-fry/
LOCATION:Our Lady of Fatima Church\, 911 Napoleon Rd\, Michigan Center\, MI\, 49254
END:VEVENT
BEGIN:VEVENT
DTSTART;TZID=America/Detroit:20220222T190000
DTEND;TZID=America/Detroit:20220222T203000
DTSTAMP:20260421T114258
CREATED:20220222T103442Z
LAST-MODIFIED:20220222T103442Z
UID:62140-1645556400-1645561800@goodshepherdcatholicradio.org
SUMMARY:Our Lady of Fatima Mexico Mission Support
DESCRIPTION:
URL:https://goodshepherdcatholicradio.org/event/our-lady-of-fatima-mexico-mission-support/
LOCATION:Our Lady of Fatima Church\, 911 Napoleon Rd\, Michigan Center\, MI\, 49254
END:VEVENT
BEGIN:VEVENT
DTSTART;VALUE=DATE:20220220
DTEND;VALUE=DATE:20220221
DTSTAMP:20260421T114258
CREATED:20220107T134140Z
LAST-MODIFIED:20220107T134140Z
UID:62044-1645315200-1645401599@goodshepherdcatholicradio.org
SUMMARY:SEVENTH SUNDAY IN ORDINARY TIME
DESCRIPTION:
URL:https://goodshepherdcatholicradio.org/event/seventh-sunday-in-ordinary-time/
END:VEVENT
BEGIN:VEVENT
DTSTART;VALUE=DATE:20220213
DTEND;VALUE=DATE:20220214
DTSTAMP:20260421T114258
CREATED:20220107T134054Z
LAST-MODIFIED:20220107T134054Z
UID:62043-1644710400-1644796799@goodshepherdcatholicradio.org
SUMMARY:SIXTH SUNDAY IN ORDINARY TIME
DESCRIPTION:
URL:https://goodshepherdcatholicradio.org/event/sixth-sunday-in-ordinary-time/
END:VEVENT
BEGIN:VEVENT
DTSTART;VALUE=DATE:20220206
DTEND;VALUE=DATE:20220207
DTSTAMP:20260421T114258
CREATED:20220107T134010Z
LAST-MODIFIED:20220107T134010Z
UID:62042-1644105600-1644191999@goodshepherdcatholicradio.org
SUMMARY:FIFTH SUNDAY IN ORDINARY TIME
DESCRIPTION:
URL:https://goodshepherdcatholicradio.org/event/fifth-sunday-in-ordinary-time/
END:VEVENT
BEGIN:VEVENT
DTSTART;TZID=America/Detroit:20220205T180000
DTEND;TZID=America/Detroit:20220205T210000
DTSTAMP:20260421T114258
CREATED:20220105T104856Z
LAST-MODIFIED:20220105T104856Z
UID:62030-1644084000-1644094800@goodshepherdcatholicradio.org
SUMMARY:The 9th annual LC Coaches and Titan Club Drawdown raffle
DESCRIPTION:The 9th annual LC Coaches and Titan Club Drawdown raffle will be held\nFebruary 5\, 2022 at the LC gym\, beginning at 7:00 PM. A $50 ticket purchase\nmakes you eligible to win prizes ranging from $100 to the last ticket drawn\nwinning the $2500 top prize. Tickets are available from any LC Coach\, Titan\nClub member\, or by calling (517)755-7502. \nYou do NOT have to be present to win. \nCOVID-19 permitting\, a social\ngathering will be held at the school\, starting at 6:00 PM\, with a donation\nrequested to help cover the cost of appetizers and refreshments. All\nprofits support the students at LC\, participating in a sport.
URL:https://goodshepherdcatholicradio.org/event/the-9th-annual-lc-coaches-and-titan-club-drawdown-raffle/
LOCATION:Lumen Christi Catholic School\, 3483 Spring Arbor Rd\, Jackson\, MI\, 49203\, United States
END:VEVENT
BEGIN:VEVENT
DTSTART;VALUE=DATE:20220130
DTEND;VALUE=DATE:20220131
DTSTAMP:20260421T114258
CREATED:20220107T133935Z
LAST-MODIFIED:20220107T133935Z
UID:62041-1643500800-1643587199@goodshepherdcatholicradio.org
SUMMARY:FOURTH SUNDAY IN ORDINARY TIME
DESCRIPTION:
URL:https://goodshepherdcatholicradio.org/event/fourth-sunday-in-ordinary-time-2/
END:VEVENT
BEGIN:VEVENT
DTSTART;VALUE=DATE:20220123
DTEND;VALUE=DATE:20220124
DTSTAMP:20260421T114258
CREATED:20220107T133829Z
LAST-MODIFIED:20220107T133829Z
UID:62040-1642896000-1642982399@goodshepherdcatholicradio.org
SUMMARY:THIRD SUNDAY IN ORDINARY TIME
DESCRIPTION:
URL:https://goodshepherdcatholicradio.org/event/third-sunday-in-ordinary-time/
END:VEVENT
BEGIN:VEVENT
DTSTART;VALUE=DATE:20220122
DTEND;VALUE=DATE:20220123
DTSTAMP:20260421T114258
CREATED:20220107T133755Z
LAST-MODIFIED:20220107T133755Z
UID:62039-1642809600-1642895999@goodshepherdcatholicradio.org
SUMMARY:Day of Prayer for the Legal Protection of Unborn Children
DESCRIPTION:
URL:https://goodshepherdcatholicradio.org/event/day-of-prayer-for-the-legal-protection-of-unborn-children-2/
END:VEVENT
BEGIN:VEVENT
DTSTART;VALUE=DATE:20220116
DTEND;VALUE=DATE:20220117
DTSTAMP:20260421T114258
CREATED:20220107T133637Z
LAST-MODIFIED:20220107T133637Z
UID:62038-1642291200-1642377599@goodshepherdcatholicradio.org
SUMMARY:SECOND SUNDAY IN ORDINARY TIME
DESCRIPTION:
URL:https://goodshepherdcatholicradio.org/event/second-sunday-in-ordinary-time/
END:VEVENT
BEGIN:VEVENT
DTSTART;VALUE=DATE:20220109
DTEND;VALUE=DATE:20220110
DTSTAMP:20260421T114258
CREATED:20220107T133538Z
LAST-MODIFIED:20220107T133538Z
UID:62037-1641686400-1641772799@goodshepherdcatholicradio.org
SUMMARY:THE BAPTISM OF THE LORD
DESCRIPTION:
URL:https://goodshepherdcatholicradio.org/event/the-baptism-of-the-lord/
END:VEVENT
BEGIN:VEVENT
DTSTART;TZID=America/Detroit:20220106T114500
DTEND;TZID=America/Detroit:20220106T124500
DTSTAMP:20260421T114258
CREATED:20211228T082636Z
LAST-MODIFIED:20211228T082636Z
UID:62016-1641469500-1641473100@goodshepherdcatholicradio.org
SUMMARY:St. Mary Pinckney Pre-K Open House
DESCRIPTION:We welcome Parents\, Grandparents and Pre-K students (3 & 4 years old) to join us from 11:45 a.m. to 12:45 p.m. on January 6\, 2022 for our Pre-K Open House located at St. Mary Catholic School 10601 Dexter-Pinckney Road. If you would need an alternative tour time\, please contact Principal: Mrs. Veronica Kinsey at mrskinsey@stmarypinckney.org or the School Office at 734-878-5616.
URL:https://goodshepherdcatholicradio.org/event/st-mary-pinckney-pre-k-open-house/
LOCATION:10601 Dexter-Pinckney Road\, 10601 Dexter-Pinckney Road\, Pinkney\, MI\, 48169
END:VEVENT
BEGIN:VEVENT
DTSTART;VALUE=DATE:20211229
DTEND;VALUE=DATE:20211230
DTSTAMP:20260421T114258
CREATED:20201230T090948Z
LAST-MODIFIED:20201230T090948Z
UID:61444-1640736000-1640822399@goodshepherdcatholicradio.org
SUMMARY:Saint Thomas Becket
DESCRIPTION:
URL:https://goodshepherdcatholicradio.org/event/saint-thomas-becket/
END:VEVENT
BEGIN:VEVENT
DTSTART;TZID=America/Detroit:20211226T000000
DTEND;TZID=America/Detroit:20211226T000000
DTSTAMP:20260421T114258
CREATED:20201229T155307Z
LAST-MODIFIED:20201229T155307Z
UID:61426-1640476800-1640476800@goodshepherdcatholicradio.org
SUMMARY:Holy Family
DESCRIPTION:
URL:https://goodshepherdcatholicradio.org/event/holy-family/
END:VEVENT
BEGIN:VEVENT
DTSTART;TZID=America/Detroit:20211225T140000
DTEND;TZID=America/Detroit:20211225T170000
DTSTAMP:20260421T114258
CREATED:20211208T160256Z
LAST-MODIFIED:20211208T160256Z
UID:62000-1640440800-1640451600@goodshepherdcatholicradio.org
SUMMARY:Community-Wide Christmas Dinner
DESCRIPTION:Queen’s Parish will once again be hosting a Community-Wide Christmas Dinner on December 25th. The last time Queen’s was able to host a dinner was on December 25\, 2019. We have missed serving our community through two Easters and one Christmas. Queens is the host of this event\, however\, many other organizations in and around Jackson aid in providing a holiday meal to those who have no one else to celebrate with\, or possibly the ability to provide a full course meal to their family. All are welcome at this free meal. This will be the 23rd time Queen’s has hosted the Christmas Dinner. \nI hope you will consider helping us publicize this event. I have attached two flyers for your convenience. Almost all of the area churches and organizations have information to distribute\, however\, we want to make sure that all those that should be reached are aware of this offering. \nOf course\, like everyone else\, we are watching closely the Covid numbers. We will be making decisions that are in the best interest for our guests and volunteers. Guests are requested to make reservations by December 21st. Covid protocols will be explained to the guest at that time. \nAll interviews can be scheduled with Elaine Crosby leading up to this event. \nPlease direct any inquiries to: \nElaine Crosby \n(517) 745-4653 mobile \n(517) 783-2738 office \necrosby@queenschurch.com \n  \n 
URL:https://goodshepherdcatholicradio.org/event/community-wide-christmas-dinner/
CATEGORIES:Dinner,Feast,PSA,Public Event
END:VEVENT
BEGIN:VEVENT
DTSTART;TZID=America/Detroit:20211225T000000
DTEND;TZID=America/Detroit:20211225T000000
DTSTAMP:20260421T114258
CREATED:20201229T155308Z
LAST-MODIFIED:20201229T155308Z
UID:61429-1640390400-1640390400@goodshepherdcatholicradio.org
SUMMARY:Christmas
DESCRIPTION:
URL:https://goodshepherdcatholicradio.org/event/christmas/
END:VEVENT
BEGIN:VEVENT
DTSTART;TZID=America/Detroit:20211219T000000
DTEND;TZID=America/Detroit:20211219T000000
DTSTAMP:20260421T114258
CREATED:20201229T155306Z
LAST-MODIFIED:20201229T155306Z
UID:61425-1639872000-1639872000@goodshepherdcatholicradio.org
SUMMARY:Fourth Sunday of Advent
DESCRIPTION:
URL:https://goodshepherdcatholicradio.org/event/fourth-sunday-of-advent/
END:VEVENT
BEGIN:VEVENT
DTSTART;TZID=America/Detroit:20211218T180000
DTEND;TZID=America/Detroit:20211218T210000
DTSTAMP:20260421T114258
CREATED:20211115T092817Z
LAST-MODIFIED:20211115T092817Z
UID:61931-1639850400-1639861200@goodshepherdcatholicradio.org
SUMMARY:Keep Christ In Christmas Family Movie Night 
DESCRIPTION:The Knights of Columbus would like to invite Jackson area families to a Keep Christ In Christmas event. The Christmas movie The Star will be shown at the Michigan Theatre on Saturday December 18 2021 at 7pm. Doors will open at 6 pm Admission is free. Anyone is welcome to join us. Please feel free to contact me if you should have any questions regarding this event. My phone number is 517-745 5723. \nCome join us in Keeping Christ in Christmas \nViva Jesus\, \nBrandon Goyings\nGrand Knight K of C Council #8858
URL:https://goodshepherdcatholicradio.org/event/keep-christ-in-christmas-family-movie-night/
LOCATION:Michigan Theatre of Jackson on North Mechanic Street\, 124 N Mechanic St\, Jackson\, MI\, 49201\, United States
CATEGORIES:Holiday,Public Event
ATTACH;FMTTYPE=image/jpeg:https://goodshepherdcatholicradio.org/wp-content/uploads/2021/11/thestarmovie-scaled-1.jpg
END:VEVENT
BEGIN:VEVENT
DTSTART;TZID=America/Detroit:20211212T000000
DTEND;TZID=America/Detroit:20211212T000000
DTSTAMP:20260421T114258
CREATED:20201229T155306Z
LAST-MODIFIED:20201229T155306Z
UID:61424-1639267200-1639267200@goodshepherdcatholicradio.org
SUMMARY:Third Sunday of Advent
DESCRIPTION:
URL:https://goodshepherdcatholicradio.org/event/third-sunday-of-advent/
END:VEVENT
END:VCALENDAR