BEGIN:VCALENDAR
VERSION:2.0
PRODID:-//Good Shepherd Catholic Radio - ECPv6.6.4.2//NONSGML v1.0//EN
CALSCALE:GREGORIAN
METHOD:PUBLISH
X-ORIGINAL-URL:https://goodshepherdcatholicradio.org
X-WR-CALDESC:Events for Good Shepherd Catholic Radio
REFRESH-INTERVAL;VALUE=DURATION:PT1H
X-Robots-Tag:noindex
X-PUBLISHED-TTL:PT1H
BEGIN:VTIMEZONE
TZID:America/Detroit
BEGIN:DAYLIGHT
TZOFFSETFROM:-0500
TZOFFSETTO:-0400
TZNAME:EDT
DTSTART:20250309T070000
END:DAYLIGHT
BEGIN:STANDARD
TZOFFSETFROM:-0400
TZOFFSETTO:-0500
TZNAME:EST
DTSTART:20251102T060000
END:STANDARD
END:VTIMEZONE
BEGIN:VEVENT
DTSTART;TZID=America/Detroit:20250602T130000
DTEND;TZID=America/Detroit:20250602T140000
DTSTAMP:20260421T114600
CREATED:20200717T161246Z
LAST-MODIFIED:20200717T161246Z
UID:64978-1748869200-1748872800@goodshepherdcatholicradio.org
SUMMARY:Sidewalk Prayer Groups in front of Planned Parenthood
DESCRIPTION:Christians from local parishes and all Jackson church congregations meet every Monday afternoon from 1:00pm-2:00pm and 5:00pm-6:00pm for sidewalk meditation and prayer in front of the Planned Parenthood office (2009 W Michigan Ave Jackson MI 49202) promoting peace\, change of hearts\, and healing for those contemplating abortion and for the victims of abortion. These are non-violent\, non-confrontational\, compassionate groups bringing community attention and awareness of abortion and for alternative options.
URL:https://goodshepherdcatholicradio.org/event/sidewalk-prayer-groups-in-front-of-planned-parenthood-2025-06-02/
LOCATION:Planned Parenthood at 2009 W. Michigan Ave. in Jackson\, 2009 W. Michigan Ave.\, Jackson\, mi\, 49202\, United States
CATEGORIES:Public Prayer
END:VEVENT
BEGIN:VEVENT
DTSTART;TZID=America/Detroit:20250609T130000
DTEND;TZID=America/Detroit:20250609T140000
DTSTAMP:20260421T114600
CREATED:20200717T161246Z
LAST-MODIFIED:20200717T161246Z
UID:65001-1749474000-1749477600@goodshepherdcatholicradio.org
SUMMARY:Sidewalk Prayer Groups in front of Planned Parenthood
DESCRIPTION:Christians from local parishes and all Jackson church congregations meet every Monday afternoon from 1:00pm-2:00pm and 5:00pm-6:00pm for sidewalk meditation and prayer in front of the Planned Parenthood office (2009 W Michigan Ave Jackson MI 49202) promoting peace\, change of hearts\, and healing for those contemplating abortion and for the victims of abortion. These are non-violent\, non-confrontational\, compassionate groups bringing community attention and awareness of abortion and for alternative options.
URL:https://goodshepherdcatholicradio.org/event/sidewalk-prayer-groups-in-front-of-planned-parenthood-2025-06-09/
LOCATION:Planned Parenthood at 2009 W. Michigan Ave. in Jackson\, 2009 W. Michigan Ave.\, Jackson\, mi\, 49202\, United States
CATEGORIES:Public Prayer
END:VEVENT
BEGIN:VEVENT
DTSTART;TZID=America/Detroit:20250616T130000
DTEND;TZID=America/Detroit:20250616T140000
DTSTAMP:20260421T114600
CREATED:20200717T161246Z
LAST-MODIFIED:20200717T161246Z
UID:65008-1750078800-1750082400@goodshepherdcatholicradio.org
SUMMARY:Sidewalk Prayer Groups in front of Planned Parenthood
DESCRIPTION:Christians from local parishes and all Jackson church congregations meet every Monday afternoon from 1:00pm-2:00pm and 5:00pm-6:00pm for sidewalk meditation and prayer in front of the Planned Parenthood office (2009 W Michigan Ave Jackson MI 49202) promoting peace\, change of hearts\, and healing for those contemplating abortion and for the victims of abortion. These are non-violent\, non-confrontational\, compassionate groups bringing community attention and awareness of abortion and for alternative options.
URL:https://goodshepherdcatholicradio.org/event/sidewalk-prayer-groups-in-front-of-planned-parenthood-2025-06-16/
LOCATION:Planned Parenthood at 2009 W. Michigan Ave. in Jackson\, 2009 W. Michigan Ave.\, Jackson\, mi\, 49202\, United States
CATEGORIES:Public Prayer
END:VEVENT
BEGIN:VEVENT
DTSTART;TZID=America/Detroit:20250623T130000
DTEND;TZID=America/Detroit:20250623T140000
DTSTAMP:20260421T114600
CREATED:20200717T161246Z
LAST-MODIFIED:20200717T161246Z
UID:65014-1750683600-1750687200@goodshepherdcatholicradio.org
SUMMARY:Sidewalk Prayer Groups in front of Planned Parenthood
DESCRIPTION:Christians from local parishes and all Jackson church congregations meet every Monday afternoon from 1:00pm-2:00pm and 5:00pm-6:00pm for sidewalk meditation and prayer in front of the Planned Parenthood office (2009 W Michigan Ave Jackson MI 49202) promoting peace\, change of hearts\, and healing for those contemplating abortion and for the victims of abortion. These are non-violent\, non-confrontational\, compassionate groups bringing community attention and awareness of abortion and for alternative options.
URL:https://goodshepherdcatholicradio.org/event/sidewalk-prayer-groups-in-front-of-planned-parenthood-2025-06-23/
LOCATION:Planned Parenthood at 2009 W. Michigan Ave. in Jackson\, 2009 W. Michigan Ave.\, Jackson\, mi\, 49202\, United States
CATEGORIES:Public Prayer
END:VEVENT
BEGIN:VEVENT
DTSTART;TZID=America/Detroit:20250630T130000
DTEND;TZID=America/Detroit:20250630T140000
DTSTAMP:20260421T114600
CREATED:20200717T161246Z
LAST-MODIFIED:20200717T161246Z
UID:65019-1751288400-1751292000@goodshepherdcatholicradio.org
SUMMARY:Sidewalk Prayer Groups in front of Planned Parenthood
DESCRIPTION:Christians from local parishes and all Jackson church congregations meet every Monday afternoon from 1:00pm-2:00pm and 5:00pm-6:00pm for sidewalk meditation and prayer in front of the Planned Parenthood office (2009 W Michigan Ave Jackson MI 49202) promoting peace\, change of hearts\, and healing for those contemplating abortion and for the victims of abortion. These are non-violent\, non-confrontational\, compassionate groups bringing community attention and awareness of abortion and for alternative options.
URL:https://goodshepherdcatholicradio.org/event/sidewalk-prayer-groups-in-front-of-planned-parenthood-2025-06-30/
LOCATION:Planned Parenthood at 2009 W. Michigan Ave. in Jackson\, 2009 W. Michigan Ave.\, Jackson\, mi\, 49202\, United States
CATEGORIES:Public Prayer
END:VEVENT
END:VCALENDAR